Workbook

Sheet Como usar
A1: Planilha de glicemia · Minha Curva
A2: Grátis para uso pessoal. Versão digital com gráfico, relatório e link para o médico: minhacurva.com.br
A4: 1. Na aba Registros, preencha data, hora, momento (escolha na lista) e o valor da glicemia em mg/dL.
A5: 2. A coluna Situação mostra se a medição ficou Baixa, No alvo ou Alta, comparando com a meta do momento.
A6: 3. Na aba Metas, ajuste as faixas de cada momento com a sua equipe de saúde.
A7: Os valores iniciais são as metas da Diretriz da Sociedade Brasileira de Diabetes para adultos com diabetes tipo 1 e 2.
A8: Gestação (metas usuais): jejum 70 a 95; 1 h após a refeição até 140; 2 h até 120.
A9: 4. A aba Resumo calcula média, % de medições no alvo e os números de cada momento do dia.
A11: Importante: abaixo de 70 mg/dL é hipoglicemia; abaixo de 54 mg/dL é hipoglicemia importante. Em emergência, ligue 192.
A12: Esta planilha organiza suas medições e não substitui a orientação do seu médico ou equipe de saúde.

Sheet Registros
A1: Data | B1: Hora | C1: Momento | D1: Glicemia (mg/dL) | E1: Situação | F1: O que comeu | G1: Insulina (U) | H1: Observações
E2: =IF(D2="","",IFERROR(IF(D2<VLOOKUP(IF(C2="","Sem contexto específico",C2),Metas!$A$2:$C$10,2,FALSE),"Baixa",IF(D2>VLOOKUP(IF(C2="","Sem contexto específico",C2),Metas!$A$2:$C$10,3,FALSE),"Alta","No alvo")),""))
E3: =IF(D3="","",IFERROR(IF(D3<VLOOKUP(IF(C3="","Sem contexto específico",C3),Metas!$A$2:$C$10,2,FALSE),"Baixa",IF(D3>VLOOKUP(IF(C3="","Sem contexto específico",C3),Metas!$A$2:$C$10,3,FALSE),"Alta","No alvo")),""))
E4: =IF(D4="","",IFERROR(IF(D4<VLOOKUP(IF(C4="","Sem contexto específico",C4),Metas!$A$2:$C$10,2,FALSE),"Baixa",IF(D4>VLOOKUP(IF(C4="","Sem contexto específico",C4),Metas!$A$2:$C$10,3,FALSE),"Alta","No alvo")),""))
E5: =IF(D5="","",IFERROR(IF(D5<VLOOKUP(IF(C5="","Sem contexto específico",C5),Metas!$A$2:$C$10,2,FALSE),"Baixa",IF(D5>VLOOKUP(IF(C5="","Sem contexto específico",C5),Metas!$A$2:$C$10,3,FALSE),"Alta","No alvo")),""))
E6: =IF(D6="","",IFERROR(IF(D6<VLOOKUP(IF(C6="","Sem contexto específico",C6),Metas!$A$2:$C$10,2,FALSE),"Baixa",IF(D6>VLOOKUP(IF(C6="","Sem contexto específico",C6),Metas!$A$2:$C$10,3,FALSE),"Alta","No alvo")),""))
E7: =IF(D7="","",IFERROR(IF(D7<VLOOKUP(IF(C7="","Sem contexto específico",C7),Metas!$A$2:$C$10,2,FALSE),"Baixa",IF(D7>VLOOKUP(IF(C7="","Sem contexto específico",C7),Metas!$A$2:$C$10,3,FALSE),"Alta","No alvo")),""))
E8: =IF(D8="","",IFERROR(IF(D8<VLOOKUP(IF(C8="","Sem contexto específico",C8),Metas!$A$2:$C$10,2,FALSE),"Baixa",IF(D8>VLOOKUP(IF(C8="","Sem contexto específico",C8),Metas!$A$2:$C$10,3,FALSE),"Alta","No alvo")),""))
E9: =IF(D9="","",IFERROR(IF(D9<VLOOKUP(IF(C9="","Sem contexto específico",C9),Metas!$A$2:$C$10,2,FALSE),"Baixa",IF(D9>VLOOKUP(IF(C9="","Sem contexto específico",C9),Metas!$A$2:$C$10,3,FALSE),"Alta","No alvo")),""))
E10: =IF(D10="","",IFERROR(IF(D10<VLOOKUP(IF(C10="","Sem contexto específico",C10),Metas!$A$2:$C$10,2,FALSE),"Baixa",IF(D10>VLOOKUP(IF(C10="","Sem contexto específico",C10),Metas!$A$2:$C$10,3,FALSE),"Alta","No alvo")),""))
E11: =IF(D11="","",IFERROR(IF(D11<VLOOKUP(IF(C11="","Sem contexto específico",C11),Metas!$A$2:$C$10,2,FALSE),"Baixa",IF(D11>VLOOKUP(IF(C11="","Sem contexto específico",C11),Metas!$A$2:$C$10,3,FALSE),"Alta","No alvo")),""))
E12: =IF(D12="","",IFERROR(IF(D12<VLOOKUP(IF(C12="","Sem contexto específico",C12),Metas!$A$2:$C$10,2,FALSE),"Baixa",IF(D12>VLOOKUP(IF(C12="","Sem contexto específico",C12),Metas!$A$2:$C$10,3,FALSE),"Alta","No alvo")),""))
E13: =IF(D13="","",IFERROR(IF(D13<VLOOKUP(IF(C13="","Sem contexto específico",C13),Metas!$A$2:$C$10,2,FALSE),"Baixa",IF(D13>VLOOKUP(IF(C13="","Sem contexto específico",C13),Metas!$A$2:$C$10,3,FALSE),"Alta","No alvo")),""))
... E1001: =IF(D1001="","",IFERROR(IF(D1001<VLOOKUP(IF(C1001="","Sem contexto específico",C1001),Metas!$A$2:$C$10,2,FALSE),"Baixa",IF(D1001>VLOOKUP(IF(C1001="","Sem contexto específico",C1001),Metas!$A$2:$C$10,3,FALSE),"Alta","No alvo")),""))

Sheet Resumo
A1: Resumo das medições
A3: Medições | B3: =COUNT(Registros!$D$2:$D$1001)
A4: Média (mg/dL) | B4: =IFERROR(ROUND(AVERAGE(Registros!$D$2:$D$1001),0),"")
A5: Medições no alvo | B5: =IFERROR(COUNTIF(Registros!$E$2:$E$1001,"No alvo")/COUNT(Registros!$D$2:$D$1001),"")
A6: Baixas (abaixo da meta) | B6: =COUNTIF(Registros!$E$2:$E$1001,"Baixa")
A7: Altas (acima da meta) | B7: =COUNTIF(Registros!$E$2:$E$1001,"Alta")
A8: Muito baixas (abaixo de 54) | B8: =COUNTIF(Registros!$D$2:$D$1001,"<54")
A9: Muito altas (acima de 250) | B9: =COUNTIF(Registros!$D$2:$D$1001,">250")
A12: Momento | B12: Medições | C12: Média (mg/dL) | D12: % no alvo
A13: Jejum | B13: =COUNTIF(Registros!$C$2:$C$1001,A13) | C13: =IFERROR(ROUND(AVERAGEIF(Registros!$C$2:$C$1001,A13,Registros!$D$2:$D$1001),0),"") | D13: =IFERROR(COUNTIFS(Registros!$C$2:$C$1001,A13,Registros!$E$2:$E$1001,"No alvo")/COUNTIF(Registros!$C$2:$C$1001,A13),"")
A14: Pós-café 1h | B14: =COUNTIF(Registros!$C$2:$C$1001,A14) | C14: =IFERROR(ROUND(AVERAGEIF(Registros!$C$2:$C$1001,A14,Registros!$D$2:$D$1001),0),"") | D14: =IFERROR(COUNTIFS(Registros!$C$2:$C$1001,A14,Registros!$E$2:$E$1001,"No alvo")/COUNTIF(Registros!$C$2:$C$1001,A14),"")
A15: Pós-café 2h | B15: =COUNTIF(Registros!$C$2:$C$1001,A15) | C15: =IFERROR(ROUND(AVERAGEIF(Registros!$C$2:$C$1001,A15,Registros!$D$2:$D$1001),0),"") | D15: =IFERROR(COUNTIFS(Registros!$C$2:$C$1001,A15,Registros!$E$2:$E$1001,"No alvo")/COUNTIF(Registros!$C$2:$C$1001,A15),"")
A16: Pós-almoço 1h | B16: =COUNTIF(Registros!$C$2:$C$1001,A16) | C16: =IFERROR(ROUND(AVERAGEIF(Registros!$C$2:$C$1001,A16,Registros!$D$2:$D$1001),0),"") | D16: =IFERROR(COUNTIFS(Registros!$C$2:$C$1001,A16,Registros!$E$2:$E$1001,"No alvo")/COUNTIF(Registros!$C$2:$C$1001,A16),"")
A17: Pós-almoço 2h | B17: =COUNTIF(Registros!$C$2:$C$1001,A17) | C17: =IFERROR(ROUND(AVERAGEIF(Registros!$C$2:$C$1001,A17,Registros!$D$2:$D$1001),0),"") | D17: =IFERROR(COUNTIFS(Registros!$C$2:$C$1001,A17,Registros!$E$2:$E$1001,"No alvo")/COUNTIF(Registros!$C$2:$C$1001,A17),"")
A18: Pós-jantar 1h | B18: =COUNTIF(Registros!$C$2:$C$1001,A18) | C18: =IFERROR(ROUND(AVERAGEIF(Registros!$C$2:$C$1001,A18,Registros!$D$2:$D$1001),0),"") | D18: =IFERROR(COUNTIFS(Registros!$C$2:$C$1001,A18,Registros!$E$2:$E$1001,"No alvo")/COUNTIF(Registros!$C$2:$C$1001,A18),"")
A19: Pós-jantar 2h | B19: =COUNTIF(Registros!$C$2:$C$1001,A19) | C19: =IFERROR(ROUND(AVERAGEIF(Registros!$C$2:$C$1001,A19,Registros!$D$2:$D$1001),0),"") | D19: =IFERROR(COUNTIFS(Registros!$C$2:$C$1001,A19,Registros!$E$2:$E$1001,"No alvo")/COUNTIF(Registros!$C$2:$C$1001,A19),"")
A20: Antes de dormir | B20: =COUNTIF(Registros!$C$2:$C$1001,A20) | C20: =IFERROR(ROUND(AVERAGEIF(Registros!$C$2:$C$1001,A20,Registros!$D$2:$D$1001),0),"") | D20: =IFERROR(COUNTIFS(Registros!$C$2:$C$1001,A20,Registros!$E$2:$E$1001,"No alvo")/COUNTIF(Registros!$C$2:$C$1001,A20),"")
A21: Sem contexto específico | B21: =COUNTIF(Registros!$C$2:$C$1001,A21) | C21: =IFERROR(ROUND(AVERAGEIF(Registros!$C$2:$C$1001,A21,Registros!$D$2:$D$1001),0),"") | D21: =IFERROR(COUNTIFS(Registros!$C$2:$C$1001,A21,Registros!$E$2:$E$1001,"No alvo")/COUNTIF(Registros!$C$2:$C$1001,A21),"")
A23: Medições sem momento escolhido contam no total, mas não na tabela por momento.

Sheet Metas
A1: Momento | B1: Mínimo (mg/dL) | C1: Máximo (mg/dL)
A2: Jejum | B2: 80 | C2: 130
A3: Pós-café 1h | B3: 70 | C3: 180
A4: Pós-café 2h | B4: 70 | C4: 180
A5: Pós-almoço 1h | B5: 70 | C5: 180
A6: Pós-almoço 2h | B6: 70 | C6: 180
A7: Pós-jantar 1h | B7: 70 | C7: 180
A8: Pós-jantar 2h | B8: 70 | C8: 180
A9: Antes de dormir | B9: 90 | C9: 150
A10: Sem contexto específico | B10: 70 | C10: 180
A12: Ajuste os valores com a sua equipe. A aba Registros usa esta tabela.
